BEGIN:VCALENDAR
VERSION:2.0
PRODID:-//Hand Biomechanics Lab - ECPv6.15.20//NONSGML v1.0//EN
CALSCALE:GREGORIAN
METHOD:PUBLISH
X-WR-CALNAME:Hand Biomechanics Lab
X-ORIGINAL-URL:https://handbiolab.com
X-WR-CALDESC:Events for Hand Biomechanics Lab
REFRESH-INTERVAL;VALUE=DURATION:PT1H
X-Robots-Tag:noindex
X-PUBLISHED-TTL:PT1H
BEGIN:VTIMEZONE
TZID:America/Los_Angeles
BEGIN:DAYLIGHT
TZOFFSETFROM:-0800
TZOFFSETTO:-0700
TZNAME:PDT
DTSTART:20250309T100000
END:DAYLIGHT
BEGIN:STANDARD
TZOFFSETFROM:-0700
TZOFFSETTO:-0800
TZNAME:PST
DTSTART:20251102T090000
END:STANDARD
BEGIN:DAYLIGHT
TZOFFSETFROM:-0800
TZOFFSETTO:-0700
TZNAME:PDT
DTSTART:20260308T100000
END:DAYLIGHT
BEGIN:STANDARD
TZOFFSETFROM:-0700
TZOFFSETTO:-0800
TZNAME:PST
DTSTART:20261101T090000
END:STANDARD
BEGIN:DAYLIGHT
TZOFFSETFROM:-0800
TZOFFSETTO:-0700
TZNAME:PDT
DTSTART:20270314T100000
END:DAYLIGHT
BEGIN:STANDARD
TZOFFSETFROM:-0700
TZOFFSETTO:-0800
TZNAME:PST
DTSTART:20271107T090000
END:STANDARD
END:VTIMEZONE
BEGIN:VEVENT
DTSTART;TZID=America/Los_Angeles:20260918T083000
DTEND;TZID=America/Los_Angeles:20260918T160000
DTSTAMP:20260422T042439
CREATED:20260421T131425Z
LAST-MODIFIED:20260421T163843Z
UID:7502-1789720200-1789747200@handbiolab.com
SUMMARY:2026 ASSH Surgical Lab - Digit Widget - Techniques and Pearls
DESCRIPTION:  \nThis hands-on cadaver lab offers surgeons a comprehensive\, practical experience with the Digit Widget to reverse PIP flexion contractures. You’ll receive direct\, technique-focused instruction on key surgical pearls to support successful outcomes. \nPlease fill out the RSVP form below to secure a spot. Interested in training on the BioPro Modular Thumb Implant? Register Here \nFirst Name *Last NameI am a: *SelectTitleHand FellowResidentOtherPractice/AssociationEmail Address *Phone NumberCityState/ProvinceCountryAfghanistanAlbaniaAlgeriaAmerican SamoaAndorraAngolaAnguillaAntarcticaAntigua and BarbudaArgentinaArmeniaArubaAustraliaAustriaAzerbaijanBahamasBahrainBangladeshBarbadosBelarusBelgiumBelizeBeninBermudaBhutanBoliviaBosnia and HerzegovinaBotswanaBouvet IslandBrazilBritish Indian Ocean TerritoryBruneiBulgariaBurkina FasoBurundiCabo VerdeCambodiaCameroonCanadaCayman IslandsCentral African RepublicChadChileChina\, People's Republic ofChristmas IslandCocos IslandsColombiaComorosCongo\, Democratic Republic of theCongo\, Republic of theCook IslandsCosta RicaCroatiaCubaCuraçaoCyprusCzech RepublicCôte d'IvoireDenmarkDjiboutiDominicaDominican RepublicEast TimorEcuadorEgyptEl SalvadorEquatorial GuineaEritreaEstoniaEthiopiaFalkland IslandsFaroe IslandsFijiFinlandFranceFrance\, MetropolitanFrench GuianaFrench PolynesiaFrench South TerritoriesGabonGambiaGeorgiaGermanyGhanaGibraltarGreeceGreenlandGrenadaGuadeloupeGuamGuatemalaGuernseyGuineaGuinea-BissauGuyanaHaitiHeard Island And Mcdonald IslandHondurasHong KongHungaryIcelandIndiaIndonesiaIranIraqIrelandIsraelItalyJamaicaJapanJerseyJohnston IslandJordanKazakhstanKenyaKiribatiKorea\, Democratic People's Republic ofKorea\, Republic ofKosovoKuwaitKyrgyzstanLao People's Democratic RepublicLatviaLebanonLesothoLiberiaLibyaLiechtensteinLithuaniaLuxembourgMacauMadagascarMalawiMalaysiaMaldivesMaliMaltaMarshall IslandsMartiniqueMauritaniaMauritiusMayotteMexicoMicronesiaMoldovaMonacoMongoliaMontenegroMontserratMoroccoMozambiqueMyanmarNamibiaNauruNepalNetherlandsNetherlands AntillesNew CaledoniaNew ZealandNicaraguaNigerNigeriaNiueNorfolk IslandNorth MacedoniaNorthern Mariana IslandsNorwayOmanPakistanPalauPalestine\, State ofPanamaPapua New GuineaParaguayPeruPhilippinesPitcairn IslandsPolandPortugalPuerto RicoQatarReunion IslandRomaniaRussiaRwandaSaint HelenaSaint Kitts and NevisSaint LuciaSaint Pierre & MiquelonSaint Vincent and the GrenadinesSamoaSan MarinoSao Tome and PrincipeSaudi ArabiaSenegalSerbiaSeychellesSierra LeoneSingaporeSint MaartenSlovakiaSloveniaSolomon IslandsSomaliaSouth AfricaSouth Georgia and South SandwichSpainSri LankaStateless PersonsSudanSudan\, SouthSurinameSvalbard and Jan MayenSwazilandSwedenSwitzerlandSyriaTaiwan\, Republic of ChinaTajikistanTanzaniaThailandTogoTokelauTongaTrinidad and TobagoTunisiaTurkeyTurkmenistanTurks And Caicos IslandsTuvaluUS Minor Outlying IslandsUgandaUkraineUnited Arab EmiratesUnited KingdomUnited States of America (USA)UruguayUzbekistanVanuatuVatican CityVenezuelaVietnamVirgin Islands\, BritishVirgin Islands\, U.S.Wallis And Futuna IslandsWestern SaharaYemenZambiaZimbabweSelectTime Slot First Choice8:30-9:00 am9:00-9:30 am9:30-10:00 am10:00-10:30 am10:30-11:00 am11:00-11:30 am11:30-12:30 pm12:30-1:00 pm1:00-1:30 pm1:30-2:00 pm2:00-2:30 pm2:30-3:00 pm3:00-3:30 pm3:30-4:00 pmSelectTime Slot Second Choice8:30-9:00 am9:00-9:30 am9:30-10:00 am10:00-10:30 am10:30-11:00 am11:00-11:30 am11:30-12:30 pm12:30-1:00 pm1:00-1:30 pm1:30-2:00 pm2:00-2:30 pm2:30-3:00 pm3:00-3:30 pm3:30-4:00 pmRSVP\n 
URL:https://handbiolab.com/event/2026-assh-surgical-lab-hbls-digit-widget-techniques-and-pearls/
LOCATION:John B. Hynes Convention Center\, 900 Boylston St\, Boston\, MA\, 02115\, United States
END:VEVENT
END:VCALENDAR